BEGIN:VCALENDAR
VERSION:2.0
PRODID:-//Club Nautique Loubésien - ECPv6.15.20//NONSGML v1.0//EN
CALSCALE:GREGORIAN
METHOD:PUBLISH
X-ORIGINAL-URL:https://cnl33.fr
X-WR-CALDESC:Évènements pour Club Nautique Loubésien
REFRESH-INTERVAL;VALUE=DURATION:PT1H
X-Robots-Tag:noindex
X-PUBLISHED-TTL:PT1H
BEGIN:VTIMEZONE
TZID:UTC
BEGIN:STANDARD
TZOFFSETFROM:+0000
TZOFFSETTO:+0000
TZNAME:UTC
DTSTART:20220101T000000
END:STANDARD
END:VTIMEZONE
BEGIN:VEVENT
DTSTART;TZID=UTC:20231021T100000
DTEND;TZID=UTC:20231021T160000
DTSTAMP:20260420T120523
CREATED:20230909T140941Z
LAST-MODIFIED:20230909T140943Z
UID:2287-1697882400-1697904000@cnl33.fr
SUMMARY:Session entrainement - 21/10/2023
DESCRIPTION:Session d’entraînement sur bateau collectif
URL:https://cnl33.fr/event/session-entrainement-21-10-2023/
LOCATION:Saint Loubès\, port de cavernes\, Saint Loubès\, 33450\, France
ORGANIZER;CN="Club Nautique Loub%C3%A9sien":MAILTO:cnl33web@gmail.com
END:VEVENT
END:VCALENDAR