BEGIN:VCALENDAR
VERSION:2.0
PRODID:-//Club Nautique Loubésien - ECPv6.15.20//NONSGML v1.0//EN
CALSCALE:GREGORIAN
METHOD:PUBLISH
X-WR-CALNAME:Club Nautique Loubésien
X-ORIGINAL-URL:https://cnl33.fr
X-WR-CALDESC:Évènements pour Club Nautique Loubésien
REFRESH-INTERVAL;VALUE=DURATION:PT1H
X-Robots-Tag:noindex
X-PUBLISHED-TTL:PT1H
BEGIN:VTIMEZONE
TZID:UTC
BEGIN:STANDARD
TZOFFSETFROM:+0000
TZOFFSETTO:+0000
TZNAME:UTC
DTSTART:20240101T000000
END:STANDARD
END:VTIMEZONE
BEGIN:VEVENT
DTSTART;TZID=UTC:20250415T080000
DTEND;TZID=UTC:20250415T170000
DTSTAMP:20260420T115655
CREATED:20250410T135659Z
LAST-MODIFIED:20250414T061125Z
UID:3310-1744704000-1744736400@cnl33.fr
SUMMARY:Journée Handivoile
DESCRIPTION:
URL:https://cnl33.fr/event/journee-handivoile/
LOCATION:Saint Loubès\, port de cavernes\, Saint Loubès\, 33450\, France
ATTACH;FMTTYPE=image/jpeg:https://cnl33.fr/wp-content/uploads/2025/04/handivoile.jpg
ORGANIZER;CN="Club Nautique Loub%C3%A9sien":MAILTO:cnl33web@gmail.com
END:VEVENT
END:VCALENDAR