BEGIN:VCALENDAR
VERSION:2.0
PRODID:-//Club Nautique Loubésien - ECPv6.15.20//NONSGML v1.0//EN
CALSCALE:GREGORIAN
METHOD:PUBLISH
X-ORIGINAL-URL:https://cnl33.fr
X-WR-CALDESC:Évènements pour Club Nautique Loubésien
REFRESH-INTERVAL;VALUE=DURATION:PT1H
X-Robots-Tag:noindex
X-PUBLISHED-TTL:PT1H
BEGIN:VTIMEZONE
TZID:UTC
BEGIN:STANDARD
TZOFFSETFROM:+0000
TZOFFSETTO:+0000
TZNAME:UTC
DTSTART:20230101T000000
END:STANDARD
END:VTIMEZONE
BEGIN:VEVENT
DTSTART;TZID=UTC:20241012T080000
DTEND;TZID=UTC:20241012T170000
DTSTAMP:20260421T160329
CREATED:20240704T061549Z
LAST-MODIFIED:20241014T093900Z
UID:2838-1728720000-1728752400@cnl33.fr
SUMMARY:Trophée Jean Louis Bonnafous 2024
DESCRIPTION:Avis de course \n\n\n\nAC-Trophee BONNAFOUS-Samedi 12 Octobre 24Télécharger\n\n\n\nAvenant au Trophee JL BONNAFOUS du 12 octobreTélécharger\n\n\n\nFiche d’inscription \n\n\n\nFormulaire Engagement CNL 2024 OCTOBRE – CopieTélécharger\n\n\n\nInstructions de Course \n\n\n\nIC Trophee JL BONNAFOUS 12 Octobre 24Télécharger\n\n\n\nClassement \n\n\n\nBonnafous 2024 – Flotte 1Télécharger\n\n\n\nBonnafous 2024 – Flotte 3Télécharger\n\n\n\nBonnafous 2024 – Flotte 5Télécharger\n\n\n\nBonnafous 2024 – scratchTélécharger
URL:https://cnl33.fr/event/trophee-jean-louis-bonnafous-2024/
LOCATION:Saint Loubès\, port de cavernes\, Saint Loubès\, 33450\, France
CATEGORIES:Régate
ATTACH;FMTTYPE=image/jpeg:https://cnl33.fr/wp-content/uploads/2024/04/DJI_0384-1-scaled.jpg
ORGANIZER;CN="Club Nautique Loub%C3%A9sien":MAILTO:cnl33web@gmail.com
END:VEVENT
BEGIN:VEVENT
DTSTART;TZID=UTC:20241013T090000
DTEND;TZID=UTC:20241013T170000
DTSTAMP:20260421T160329
CREATED:20241006T090110Z
LAST-MODIFIED:20250126T162944Z
UID:3033-1728810000-1728838800@cnl33.fr
SUMMARY:13 octobre : Saint Loubès rose - sorties voile
DESCRIPTION:Dans le cadre de Saint Loubès rose\, en lien avec les associations de Saint Loubès\, le CNL organise des sorties « découverte de la voile » sur la Dordogne. 5 bateaux du club vont assurer 4 rotations dans la journée. \n\n\n\nVous trouverez ci dessous le programme des animations et ateliers \n\n\n\n\n\n\n\nainsi que le lien pour s’inscrire. \n\n\n\nhttps://www.helloasso.com/associations/evadetvous33/evenements/journee-saint-loubes-en-rose-dimanche-13-octobre
URL:https://cnl33.fr/event/13-octobre-saint-loubes-rose/
CATEGORIES:Manifestation,Sortie découverte
ATTACH;FMTTYPE=image/webp:https://cnl33.fr/wp-content/uploads/2024/10/Flyer-saint-loubes-rose-2024.webp
ORGANIZER;CN="EVAD&VOUS33":MAILTO:contact@evadetvous33.fr
END:VEVENT
BEGIN:VEVENT
DTSTART;TZID=UTC:20241026T080000
DTEND;TZID=UTC:20241026T170000
DTSTAMP:20260421T160329
CREATED:20240704T061855Z
LAST-MODIFIED:20241020T064425Z
UID:2844-1729929600-1729962000@cnl33.fr
SUMMARY:Coupe Pierre Sourgen 2024
DESCRIPTION:Avis de course \n\n\n\nAC-Coupe P.SOURGEN-Samedi 26 Octobre 24Télécharger\n\n\n\nFormulaire d’engagement \n\n\n\nFormulaire Engagement CNL 2024 OCTOBRETélécharger\n\n\n\nInstructions de Course \n\n\n\nIC 2024 Trophee P. SoURGENTélécharger\n\n\n\n… \n\n\n\nClassement \n\n\n\n…
URL:https://cnl33.fr/event/coupe-pierre-sourgen-2024/
LOCATION:Saint Loubès\, port de cavernes\, Saint Loubès\, 33450\, France
CATEGORIES:Régate
ATTACH;FMTTYPE=image/jpeg:https://cnl33.fr/wp-content/uploads/2023/04/photo-1-scaled.jpg
ORGANIZER;CN="Club Nautique Loub%C3%A9sien":MAILTO:cnl33web@gmail.com
END:VEVENT
END:VCALENDAR