BEGIN:VCALENDAR
VERSION:2.0
PRODID:-//Club Nautique Loubésien - ECPv6.15.20//NONSGML v1.0//EN
CALSCALE:GREGORIAN
METHOD:PUBLISH
X-WR-CALNAME:Club Nautique Loubésien
X-ORIGINAL-URL:https://cnl33.fr
X-WR-CALDESC:Évènements pour Club Nautique Loubésien
REFRESH-INTERVAL;VALUE=DURATION:PT1H
X-Robots-Tag:noindex
X-PUBLISHED-TTL:PT1H
BEGIN:VTIMEZONE
TZID:UTC
BEGIN:STANDARD
TZOFFSETFROM:+0000
TZOFFSETTO:+0000
TZNAME:UTC
DTSTART:20240101T000000
END:STANDARD
END:VTIMEZONE
BEGIN:VEVENT
DTSTART;TZID=UTC:20250528T080000
DTEND;TZID=UTC:20250601T170000
DTSTAMP:20260423T084257
CREATED:20250325T140040Z
LAST-MODIFIED:20250527T142732Z
UID:3276-1748419200-1748797200@cnl33.fr
SUMMARY:Croisière rose 2025
DESCRIPTION:Bonjour à tous\,Nous savons que vous l’attendiez tous avec impatience\, voici enfin toutes les infos sur  \n\n\n\nnotre 2éme Croisière Rose 2025! \n\n\n\nVous trouverez en pj les éléments sur l’organisation de la croisière\, ainsi que la fiche d’inscription à retourner à Cédric avant le 15/04 svp. \n\n\n\n Départ le 28/05 et arrivée le 01/06 comme en 2024 au Port du Verdon sur Mer\,  \n\n\n\n     avec des étapes à St Denis d’Oléron\, Les Sables d’Olonne (pour profiter des ukulélé) \, et La Rochelle. \n\n\n\n     le traditionnel concours de pêche \n\n\n\n     et bien sûr des supers moments conviviaux et de partage sur l’eau et à terre! \n\n\n\nEn espérant que vous soyer dès nôtres pour que cette nouvelle édition soit aussi incroyable que la précédente\, \n\n\n\nEt vous remerciant de bien vouloir communiquer l’information dans vos clubs\, \n\n\n\nA très vite sur l’eau\, \n\n\n\nExcellent week-end\, \n\n\n\nLa Team TER \n\n\n\nProgramme \n\n\n\nOrga Croisiere Rose 2025Télécharger\n\n\n\nFiche d’inscription \n\n\n\nFiche inscription Croisiere Rose 2025Télécharger
URL:https://cnl33.fr/event/croisiere-rose-2025/
LOCATION:Port Médoc\, 25 avenue de la plage\, Le verdon sur mer\, 33123\, France
CATEGORIES:croisière
ATTACH;FMTTYPE=image/jpeg:https://cnl33.fr/wp-content/uploads/2025/03/croisiere-rose.jpg
ORGANIZER;CN="Team TER":MAILTO:kwicvoile@gmail.com
END:VEVENT
BEGIN:VEVENT
DTSTART;TZID=UTC:20250608T080000
DTEND;TZID=UTC:20250608T170000
DTSTAMP:20260423T084257
CREATED:20250506T151156Z
LAST-MODIFIED:20250601T124645Z
UID:3367-1749369600-1749402000@cnl33.fr
SUMMARY:Pentecôte 2025
DESCRIPTION:Avis de Course \n\n\n\nAC – Régate de Pentecôte 2025Télécharger\n\n\n\nFiche d’inscription \n\n\n\nFiche d’inscription – Pentecôte 2025Télécharger\n\n\n\nInstructions de course \n\n\n\nAnnexes IC – Pentecôte 2025Télécharger\n\n\n\nRésultats
URL:https://cnl33.fr/event/pentecote-2025/
LOCATION:Bourg sur Gironde\, 2 bis\, quai des verreries\, bourg sur gironde\, 33710\, France
CATEGORIES:Régate
ORGANIZER;CN="VCNP %3A Voile et Cercle Nautique de Pauillac":MAILTO:contact@vcnp.fr
END:VEVENT
BEGIN:VEVENT
DTSTART;TZID=UTC:20250621T080000
DTEND;TZID=UTC:20250621T170000
DTSTAMP:20260423T084257
CREATED:20250527T060216Z
LAST-MODIFIED:20250601T124738Z
UID:3417-1750492800-1750525200@cnl33.fr
SUMMARY:Lormontaise 2025
DESCRIPTION:Avis de course \n\n\n\nAvis de Course – Lormontaise_ 2025Télécharger\n\n\n\nFiche d’inscription \n\n\n\nFiche d’inscription LORMONTAISE 2025Télécharger\n\n\n\nInstructions de course \n\n\n\nRésultats
URL:https://cnl33.fr/event/21-juin-2025-lormontaise/
LOCATION:Bourg sur Gironde\, 2 bis\, quai des verreries\, bourg sur gironde\, 33710\, France
CATEGORIES:Régate
END:VEVENT
BEGIN:VEVENT
DTSTART;TZID=UTC:20250627T080000
DTEND;TZID=UTC:20250701T170000
DTSTAMP:20260423T084257
CREATED:20250527T143025Z
LAST-MODIFIED:20250527T143351Z
UID:3426-1751011200-1751389200@cnl33.fr
SUMMARY:Course Croisière des Ports Vendéens : Edition 2025
DESCRIPTION:Rendez-vous sur le site organisateur pour les documents relatifs à la régate
URL:https://cnl33.fr/event/course-croisiere-des-ports-vendeens-3/
CATEGORIES:Régate
ORGANIZER;CN="ANCCPV Association Nouvelle pour la Course Croisi%C3%A8re des Ports Vend%C3%A9ens":MAILTO:portsvendeens@gmail.com
END:VEVENT
END:VCALENDAR